BEGIN:VCALENDAR
VERSION:2.0
PRODID:-//Community Music School - ECPv6.15.20//NONSGML v1.0//EN
CALSCALE:GREGORIAN
METHOD:PUBLISH
X-ORIGINAL-URL:https://www.cmsmusic.org
X-WR-CALDESC:Events for Community Music School
REFRESH-INTERVAL;VALUE=DURATION:PT1H
X-Robots-Tag:noindex
X-PUBLISHED-TTL:PT1H
BEGIN:VTIMEZONE
TZID:America/New_York
BEGIN:DAYLIGHT
TZOFFSETFROM:-0500
TZOFFSETTO:-0400
TZNAME:EDT
DTSTART:20220313T070000
END:DAYLIGHT
BEGIN:STANDARD
TZOFFSETFROM:-0400
TZOFFSETTO:-0500
TZNAME:EST
DTSTART:20221106T060000
END:STANDARD
BEGIN:DAYLIGHT
TZOFFSETFROM:-0500
TZOFFSETTO:-0400
TZNAME:EDT
DTSTART:20230312T070000
END:DAYLIGHT
BEGIN:STANDARD
TZOFFSETFROM:-0400
TZOFFSETTO:-0500
TZNAME:EST
DTSTART:20231105T060000
END:STANDARD
BEGIN:DAYLIGHT
TZOFFSETFROM:-0500
TZOFFSETTO:-0400
TZNAME:EDT
DTSTART:20240310T070000
END:DAYLIGHT
BEGIN:STANDARD
TZOFFSETFROM:-0400
TZOFFSETTO:-0500
TZNAME:EST
DTSTART:20241103T060000
END:STANDARD
END:VTIMEZONE
BEGIN:VEVENT
DTSTART;TZID=America/New_York:20230606T193000
DTEND;TZID=America/New_York:20230606T203000
DTSTAMP:20260420T072445
CREATED:20230607T134953Z
LAST-MODIFIED:20230607T134953Z
UID:10000645-1686079800-1686083400@www.cmsmusic.org
SUMMARY:Adult Ensembles Concert
DESCRIPTION:Join us for a free concert featuring our New Horizons Band and Adult String Ensemble.
URL:https://www.cmsmusic.org/event/adult-ensembles-concert/
LOCATION:Community Music School\, 775 West Main Street\, Trappe\, PA\, 19426\, United States
GEO:40.202853;-75.4832044
X-APPLE-STRUCTURED-LOCATION;VALUE=URI;X-ADDRESS=Community Music School 775 West Main Street Trappe PA 19426 United States;X-APPLE-RADIUS=500;X-TITLE=775 West Main Street:geo:-75.4832044,40.202853
END:VEVENT
BEGIN:VEVENT
DTSTART;TZID=America/New_York:20230608T180000
DTEND;TZID=America/New_York:20230608T190000
DTSTAMP:20260420T072445
CREATED:20220628T195059Z
LAST-MODIFIED:20221208T155431Z
UID:10000480-1686247200-1686250800@www.cmsmusic.org
SUMMARY:Suzuki Spring Blossom Concert
DESCRIPTION:Join us for our Spring Blossom Concert featuring Suzuki string students.
URL:https://www.cmsmusic.org/event/suzuki-spring-blossom-concert-3/
LOCATION:Community Music School\, 775 West Main Street\, Trappe\, PA\, 19426\, United States
GEO:40.202853;-75.4832044
X-APPLE-STRUCTURED-LOCATION;VALUE=URI;X-ADDRESS=Community Music School 775 West Main Street Trappe PA 19426 United States;X-APPLE-RADIUS=500;X-TITLE=775 West Main Street:geo:-75.4832044,40.202853
END:VEVENT
BEGIN:VEVENT
DTSTART;TZID=America/New_York:20230609T190000
DTEND;TZID=America/New_York:20230609T200000
DTSTAMP:20260420T072445
CREATED:20221206T184248Z
LAST-MODIFIED:20221206T184248Z
UID:10000631-1686337200-1686340800@www.cmsmusic.org
SUMMARY:Student Recital
DESCRIPTION:
URL:https://www.cmsmusic.org/event/student-recital-25/
LOCATION:Community Music School\, 775 West Main Street\, Trappe\, PA\, 19426\, United States
GEO:40.202853;-75.4832044
X-APPLE-STRUCTURED-LOCATION;VALUE=URI;X-ADDRESS=Community Music School 775 West Main Street Trappe PA 19426 United States;X-APPLE-RADIUS=500;X-TITLE=775 West Main Street:geo:-75.4832044,40.202853
END:VEVENT
BEGIN:VEVENT
DTSTART;TZID=America/New_York:20230611T140000
DTEND;TZID=America/New_York:20230611T160000
DTSTAMP:20260420T072445
CREATED:20230526T175857Z
LAST-MODIFIED:20230605T191358Z
UID:10000643-1686492000-1686499200@www.cmsmusic.org
SUMMARY:CANCELLED Ice Cream Social Recital
DESCRIPTION:This event has been cancelled and will be rescheduled for next school year.
URL:https://www.cmsmusic.org/event/ice-cream-social-recital/
LOCATION:Handel’s Ice Cream\, 627 Main St\, Royersford\, pa\, 19468
CATEGORIES:Special Events,Student Recitals
END:VEVENT
END:VCALENDAR