BEGIN:VCALENDAR
VERSION:2.0
PRODID:-//Community Music School - ECPv6.15.20//NONSGML v1.0//EN
CALSCALE:GREGORIAN
METHOD:PUBLISH
X-WR-CALNAME:Community Music School
X-ORIGINAL-URL:https://www.cmsmusic.org
X-WR-CALDESC:Events for Community Music School
REFRESH-INTERVAL;VALUE=DURATION:PT1H
X-Robots-Tag:noindex
X-PUBLISHED-TTL:PT1H
BEGIN:VTIMEZONE
TZID:America/New_York
BEGIN:DAYLIGHT
TZOFFSETFROM:-0500
TZOFFSETTO:-0400
TZNAME:EDT
DTSTART:20170312T070000
END:DAYLIGHT
BEGIN:STANDARD
TZOFFSETFROM:-0400
TZOFFSETTO:-0500
TZNAME:EST
DTSTART:20171105T060000
END:STANDARD
BEGIN:DAYLIGHT
TZOFFSETFROM:-0500
TZOFFSETTO:-0400
TZNAME:EDT
DTSTART:20180311T070000
END:DAYLIGHT
BEGIN:STANDARD
TZOFFSETFROM:-0400
TZOFFSETTO:-0500
TZNAME:EST
DTSTART:20181104T060000
END:STANDARD
BEGIN:DAYLIGHT
TZOFFSETFROM:-0500
TZOFFSETTO:-0400
TZNAME:EDT
DTSTART:20190310T070000
END:DAYLIGHT
BEGIN:STANDARD
TZOFFSETFROM:-0400
TZOFFSETTO:-0500
TZNAME:EST
DTSTART:20191103T060000
END:STANDARD
END:VTIMEZONE
BEGIN:VEVENT
DTSTART;TZID=America/New_York:20180614T081000
DTEND;TZID=America/New_York:20180614T085000
DTSTAMP:20260425T064433
CREATED:20180110T223216Z
LAST-MODIFIED:20180110T223216Z
UID:10000021-1528963800-1528966200@www.cmsmusic.org
SUMMARY:Bach's Lunch - Jennifer Abate Little\, soprano\, Thad Shirey\, baritone & Seth Trumbore\, piano
DESCRIPTION:Bring your box lunch and join us for a FREE lunchtime concert on the third Thursday of the month! These informal concerts typically feature CMS faculty members. Programs begin at 12:10 and end by 12:50pm. All ages welcome!
URL:https://www.cmsmusic.org/event/bachs-lunch-jennifer-abate-little-soprano-thad-shirey-baritone-seth-trumbore-piano/
LOCATION:Community Music School\, 775 West Main Street\, Trappe\, PA\, 19426\, United States
CATEGORIES:Bach's Lunch
GEO:40.202853;-75.4832044
X-APPLE-STRUCTURED-LOCATION;VALUE=URI;X-ADDRESS=Community Music School 775 West Main Street Trappe PA 19426 United States;X-APPLE-RADIUS=500;X-TITLE=775 West Main Street:geo:-75.4832044,40.202853
END:VEVENT
BEGIN:VEVENT
DTSTART;TZID=America/New_York:20180614T133000
DTEND;TZID=America/New_York:20180614T143000
DTSTAMP:20260425T064433
CREATED:20180111T193731Z
LAST-MODIFIED:20180111T193731Z
UID:10000004-1528983000-1528986600@www.cmsmusic.org
SUMMARY:Suzuki Spring Blossom Concert
DESCRIPTION:
URL:https://www.cmsmusic.org/event/suzuki-spring-blossom-concert/
CATEGORIES:Special Events
END:VEVENT
BEGIN:VEVENT
DTSTART;TZID=America/New_York:20180615T153000
DTEND;TZID=America/New_York:20180615T173000
DTSTAMP:20260425T064433
CREATED:20180524T212919Z
LAST-MODIFIED:20180524T213944Z
UID:10000003-1529076600-1529083800@www.cmsmusic.org
SUMMARY:Classic Beatles with Elastic Karma & CMS Faculty Orchestra
DESCRIPTION:Elastic Karma & CMS Faculty Orchestra Perform Classic Beatles tunes. This is not your average Beatles show but instead your favorite Beatles tunes performed with full orchestral accompaniment! “Guarantee to Raise a Smile!”
URL:https://www.cmsmusic.org/event/classic-beatles-with-elastic-karma-cms-faculty-orchestra/
CATEGORIES:Special Events
ATTACH;FMTTYPE=image/jpeg:https://www.cmsmusic.org/wp-content/uploads/2018-Elasic-Karma-CMS-Flyer.jpg
END:VEVENT
END:VCALENDAR