BEGIN:VCALENDAR
VERSION:2.0
PRODID:-//Community Music School - ECPv6.15.20//NONSGML v1.0//EN
CALSCALE:GREGORIAN
METHOD:PUBLISH
X-WR-CALNAME:Community Music School
X-ORIGINAL-URL:https://www.cmsmusic.org
X-WR-CALDESC:Events for Community Music School
REFRESH-INTERVAL;VALUE=DURATION:PT1H
X-Robots-Tag:noindex
X-PUBLISHED-TTL:PT1H
BEGIN:VTIMEZONE
TZID:America/New_York
BEGIN:DAYLIGHT
TZOFFSETFROM:-0500
TZOFFSETTO:-0400
TZNAME:EDT
DTSTART:20200308T070000
END:DAYLIGHT
BEGIN:STANDARD
TZOFFSETFROM:-0400
TZOFFSETTO:-0500
TZNAME:EST
DTSTART:20201101T060000
END:STANDARD
BEGIN:DAYLIGHT
TZOFFSETFROM:-0500
TZOFFSETTO:-0400
TZNAME:EDT
DTSTART:20210314T070000
END:DAYLIGHT
BEGIN:STANDARD
TZOFFSETFROM:-0400
TZOFFSETTO:-0500
TZNAME:EST
DTSTART:20211107T060000
END:STANDARD
BEGIN:DAYLIGHT
TZOFFSETFROM:-0500
TZOFFSETTO:-0400
TZNAME:EDT
DTSTART:20220313T070000
END:DAYLIGHT
BEGIN:STANDARD
TZOFFSETFROM:-0400
TZOFFSETTO:-0500
TZNAME:EST
DTSTART:20221106T060000
END:STANDARD
END:VTIMEZONE
BEGIN:VEVENT
DTSTART;TZID=America/New_York:20210802T090000
DTEND;TZID=America/New_York:20210802T120000
DTSTAMP:20260423T075257
CREATED:20210223T164152Z
LAST-MODIFIED:20210223T164152Z
UID:10000130-1627894800-1627905600@www.cmsmusic.org
SUMMARY:Piano Camp
DESCRIPTION:
URL:https://www.cmsmusic.org/event/piano-camp/2021-08-02/
LOCATION:Community Music School\, 775 West Main Street\, Trappe\, PA\, 19426\, United States
GEO:40.202853;-75.4832044
X-APPLE-STRUCTURED-LOCATION;VALUE=URI;X-ADDRESS=Community Music School 775 West Main Street Trappe PA 19426 United States;X-APPLE-RADIUS=500;X-TITLE=775 West Main Street:geo:-75.4832044,40.202853
END:VEVENT
BEGIN:VEVENT
DTSTART;TZID=America/New_York:20210803T080000
DTEND;TZID=America/New_York:20210803T170000
DTSTAMP:20260423T075257
CREATED:20210803T140940Z
LAST-MODIFIED:20210803T140940Z
UID:10000098-1627977600-1628010000@www.cmsmusic.org
SUMMARY:Make-Up Lessons Only
DESCRIPTION:April 12-14 are make-up lessons days. Faculty will notify students about scheduled make-ups.
URL:https://www.cmsmusic.org/event/make-up-lessons-only-6/
END:VEVENT
BEGIN:VEVENT
DTSTART;TZID=America/New_York:20210803T090000
DTEND;TZID=America/New_York:20210803T120000
DTSTAMP:20260423T075257
CREATED:20210223T164152Z
LAST-MODIFIED:20210223T164152Z
UID:10000131-1627981200-1627992000@www.cmsmusic.org
SUMMARY:Piano Camp
DESCRIPTION:
URL:https://www.cmsmusic.org/event/piano-camp/2021-08-03/
LOCATION:Community Music School\, 775 West Main Street\, Trappe\, PA\, 19426\, United States
GEO:40.202853;-75.4832044
X-APPLE-STRUCTURED-LOCATION;VALUE=URI;X-ADDRESS=Community Music School 775 West Main Street Trappe PA 19426 United States;X-APPLE-RADIUS=500;X-TITLE=775 West Main Street:geo:-75.4832044,40.202853
END:VEVENT
BEGIN:VEVENT
DTSTART;TZID=America/New_York:20210804T090000
DTEND;TZID=America/New_York:20210804T120000
DTSTAMP:20260423T075257
CREATED:20210223T164152Z
LAST-MODIFIED:20210223T164152Z
UID:10000132-1628067600-1628078400@www.cmsmusic.org
SUMMARY:Piano Camp
DESCRIPTION:
URL:https://www.cmsmusic.org/event/piano-camp/2021-08-04/
LOCATION:Community Music School\, 775 West Main Street\, Trappe\, PA\, 19426\, United States
GEO:40.202853;-75.4832044
X-APPLE-STRUCTURED-LOCATION;VALUE=URI;X-ADDRESS=Community Music School 775 West Main Street Trappe PA 19426 United States;X-APPLE-RADIUS=500;X-TITLE=775 West Main Street:geo:-75.4832044,40.202853
END:VEVENT
BEGIN:VEVENT
DTSTART;TZID=America/New_York:20210805T090000
DTEND;TZID=America/New_York:20210805T120000
DTSTAMP:20260423T075257
CREATED:20210223T164152Z
LAST-MODIFIED:20210223T164152Z
UID:10000133-1628154000-1628164800@www.cmsmusic.org
SUMMARY:Piano Camp
DESCRIPTION:
URL:https://www.cmsmusic.org/event/piano-camp/2021-08-05/
LOCATION:Community Music School\, 775 West Main Street\, Trappe\, PA\, 19426\, United States
GEO:40.202853;-75.4832044
X-APPLE-STRUCTURED-LOCATION;VALUE=URI;X-ADDRESS=Community Music School 775 West Main Street Trappe PA 19426 United States;X-APPLE-RADIUS=500;X-TITLE=775 West Main Street:geo:-75.4832044,40.202853
END:VEVENT
BEGIN:VEVENT
DTSTART;TZID=America/New_York:20210806T090000
DTEND;TZID=America/New_York:20210806T120000
DTSTAMP:20260423T075257
CREATED:20210223T164152Z
LAST-MODIFIED:20210223T164152Z
UID:10000134-1628240400-1628251200@www.cmsmusic.org
SUMMARY:Piano Camp
DESCRIPTION:
URL:https://www.cmsmusic.org/event/piano-camp/2021-08-06/
LOCATION:Community Music School\, 775 West Main Street\, Trappe\, PA\, 19426\, United States
GEO:40.202853;-75.4832044
X-APPLE-STRUCTURED-LOCATION;VALUE=URI;X-ADDRESS=Community Music School 775 West Main Street Trappe PA 19426 United States;X-APPLE-RADIUS=500;X-TITLE=775 West Main Street:geo:-75.4832044,40.202853
END:VEVENT
BEGIN:VEVENT
DTSTART;VALUE=DATE:20210830
DTEND;VALUE=DATE:20210831
DTSTAMP:20260423T075257
CREATED:20210803T133300Z
LAST-MODIFIED:20210803T133300Z
UID:10000142-1630281600-1630367999@www.cmsmusic.org
SUMMARY:Quarter 1 Begins
DESCRIPTION:Quarter 1 Lessons – August 30-November 6\, 2021
URL:https://www.cmsmusic.org/event/quarter-1-begins/
LOCATION:Community Music School\, 775 West Main Street\, Trappe\, PA\, 19426\, United States
CATEGORIES:Quarter
GEO:40.202853;-75.4832044
X-APPLE-STRUCTURED-LOCATION;VALUE=URI;X-ADDRESS=Community Music School 775 West Main Street Trappe PA 19426 United States;X-APPLE-RADIUS=500;X-TITLE=775 West Main Street:geo:-75.4832044,40.202853
END:VEVENT
END:VCALENDAR