BEGIN:VCALENDAR
VERSION:2.0
PRODID:-//Community Music School - ECPv6.15.20//NONSGML v1.0//EN
CALSCALE:GREGORIAN
METHOD:PUBLISH
X-ORIGINAL-URL:https://www.cmsmusic.org
X-WR-CALDESC:Events for Community Music School
REFRESH-INTERVAL;VALUE=DURATION:PT1H
X-Robots-Tag:noindex
X-PUBLISHED-TTL:PT1H
BEGIN:VTIMEZONE
TZID:America/New_York
BEGIN:DAYLIGHT
TZOFFSETFROM:-0500
TZOFFSETTO:-0400
TZNAME:EDT
DTSTART:20200308T070000
END:DAYLIGHT
BEGIN:STANDARD
TZOFFSETFROM:-0400
TZOFFSETTO:-0500
TZNAME:EST
DTSTART:20201101T060000
END:STANDARD
BEGIN:DAYLIGHT
TZOFFSETFROM:-0500
TZOFFSETTO:-0400
TZNAME:EDT
DTSTART:20210314T070000
END:DAYLIGHT
BEGIN:STANDARD
TZOFFSETFROM:-0400
TZOFFSETTO:-0500
TZNAME:EST
DTSTART:20211107T060000
END:STANDARD
BEGIN:DAYLIGHT
TZOFFSETFROM:-0500
TZOFFSETTO:-0400
TZNAME:EDT
DTSTART:20220313T070000
END:DAYLIGHT
BEGIN:STANDARD
TZOFFSETFROM:-0400
TZOFFSETTO:-0500
TZNAME:EST
DTSTART:20221106T060000
END:STANDARD
END:VTIMEZONE
BEGIN:VEVENT
DTSTART;VALUE=DATE:20210628
DTEND;VALUE=DATE:20210704
DTSTAMP:20260423T092714
CREATED:20200918T001314Z
LAST-MODIFIED:20200918T001339Z
UID:10000086-1624838400-1625356799@www.cmsmusic.org
SUMMARY:Make-Up Lessons Only
DESCRIPTION:There are no regular lessons or classes today\, only make-up lessons as scheduled by faculty.
URL:https://www.cmsmusic.org/event/make-up-lessons-only-4/
END:VEVENT
BEGIN:VEVENT
DTSTART;TZID=America/New_York:20210705T090000
DTEND;TZID=America/New_York:20210705T120000
DTSTAMP:20260423T092714
CREATED:20210223T163618Z
LAST-MODIFIED:20210223T163618Z
UID:10000115-1625475600-1625486400@www.cmsmusic.org
SUMMARY:Cello Festival Camp
DESCRIPTION:
URL:https://www.cmsmusic.org/event/cello-festival-camp/2021-07-05/
LOCATION:Community Music School\, 775 West Main Street\, Trappe\, PA\, 19426\, United States
GEO:40.202853;-75.4832044
X-APPLE-STRUCTURED-LOCATION;VALUE=URI;X-ADDRESS=Community Music School 775 West Main Street Trappe PA 19426 United States;X-APPLE-RADIUS=500;X-TITLE=775 West Main Street:geo:-75.4832044,40.202853
END:VEVENT
BEGIN:VEVENT
DTSTART;TZID=America/New_York:20210706T090000
DTEND;TZID=America/New_York:20210706T120000
DTSTAMP:20260423T092714
CREATED:20210223T163618Z
LAST-MODIFIED:20210223T163618Z
UID:10000116-1625562000-1625572800@www.cmsmusic.org
SUMMARY:Cello Festival Camp
DESCRIPTION:
URL:https://www.cmsmusic.org/event/cello-festival-camp/2021-07-06/
LOCATION:Community Music School\, 775 West Main Street\, Trappe\, PA\, 19426\, United States
GEO:40.202853;-75.4832044
X-APPLE-STRUCTURED-LOCATION;VALUE=URI;X-ADDRESS=Community Music School 775 West Main Street Trappe PA 19426 United States;X-APPLE-RADIUS=500;X-TITLE=775 West Main Street:geo:-75.4832044,40.202853
END:VEVENT
BEGIN:VEVENT
DTSTART;TZID=America/New_York:20210707T090000
DTEND;TZID=America/New_York:20210707T120000
DTSTAMP:20260423T092714
CREATED:20210223T163618Z
LAST-MODIFIED:20210223T163618Z
UID:10000117-1625648400-1625659200@www.cmsmusic.org
SUMMARY:Cello Festival Camp
DESCRIPTION:
URL:https://www.cmsmusic.org/event/cello-festival-camp/2021-07-07/
LOCATION:Community Music School\, 775 West Main Street\, Trappe\, PA\, 19426\, United States
GEO:40.202853;-75.4832044
X-APPLE-STRUCTURED-LOCATION;VALUE=URI;X-ADDRESS=Community Music School 775 West Main Street Trappe PA 19426 United States;X-APPLE-RADIUS=500;X-TITLE=775 West Main Street:geo:-75.4832044,40.202853
END:VEVENT
BEGIN:VEVENT
DTSTART;TZID=America/New_York:20210708T090000
DTEND;TZID=America/New_York:20210708T120000
DTSTAMP:20260423T092714
CREATED:20210223T163618Z
LAST-MODIFIED:20210223T163618Z
UID:10000118-1625734800-1625745600@www.cmsmusic.org
SUMMARY:Cello Festival Camp
DESCRIPTION:
URL:https://www.cmsmusic.org/event/cello-festival-camp/2021-07-08/
LOCATION:Community Music School\, 775 West Main Street\, Trappe\, PA\, 19426\, United States
GEO:40.202853;-75.4832044
X-APPLE-STRUCTURED-LOCATION;VALUE=URI;X-ADDRESS=Community Music School 775 West Main Street Trappe PA 19426 United States;X-APPLE-RADIUS=500;X-TITLE=775 West Main Street:geo:-75.4832044,40.202853
END:VEVENT
BEGIN:VEVENT
DTSTART;TZID=America/New_York:20210709T090000
DTEND;TZID=America/New_York:20210709T120000
DTSTAMP:20260423T092714
CREATED:20210223T163618Z
LAST-MODIFIED:20210223T163618Z
UID:10000119-1625821200-1625832000@www.cmsmusic.org
SUMMARY:Cello Festival Camp
DESCRIPTION:
URL:https://www.cmsmusic.org/event/cello-festival-camp/2021-07-09/
LOCATION:Community Music School\, 775 West Main Street\, Trappe\, PA\, 19426\, United States
GEO:40.202853;-75.4832044
X-APPLE-STRUCTURED-LOCATION;VALUE=URI;X-ADDRESS=Community Music School 775 West Main Street Trappe PA 19426 United States;X-APPLE-RADIUS=500;X-TITLE=775 West Main Street:geo:-75.4832044,40.202853
END:VEVENT
BEGIN:VEVENT
DTSTART;TZID=America/New_York:20210712T090000
DTEND;TZID=America/New_York:20210712T120000
DTSTAMP:20260423T092714
CREATED:20210223T163913Z
LAST-MODIFIED:20210223T163913Z
UID:10000120-1626080400-1626091200@www.cmsmusic.org
SUMMARY:Vivace Violin & Viola Camp
DESCRIPTION:
URL:https://www.cmsmusic.org/event/vivace-violin-viola-camp/2021-07-12/
LOCATION:Community Music School\, 775 West Main Street\, Trappe\, PA\, 19426\, United States
GEO:40.202853;-75.4832044
X-APPLE-STRUCTURED-LOCATION;VALUE=URI;X-ADDRESS=Community Music School 775 West Main Street Trappe PA 19426 United States;X-APPLE-RADIUS=500;X-TITLE=775 West Main Street:geo:-75.4832044,40.202853
END:VEVENT
BEGIN:VEVENT
DTSTART;TZID=America/New_York:20210713T090000
DTEND;TZID=America/New_York:20210713T120000
DTSTAMP:20260423T092714
CREATED:20210223T163913Z
LAST-MODIFIED:20210223T163913Z
UID:10000121-1626166800-1626177600@www.cmsmusic.org
SUMMARY:Vivace Violin & Viola Camp
DESCRIPTION:
URL:https://www.cmsmusic.org/event/vivace-violin-viola-camp/2021-07-13/
LOCATION:Community Music School\, 775 West Main Street\, Trappe\, PA\, 19426\, United States
GEO:40.202853;-75.4832044
X-APPLE-STRUCTURED-LOCATION;VALUE=URI;X-ADDRESS=Community Music School 775 West Main Street Trappe PA 19426 United States;X-APPLE-RADIUS=500;X-TITLE=775 West Main Street:geo:-75.4832044,40.202853
END:VEVENT
BEGIN:VEVENT
DTSTART;TZID=America/New_York:20210714T090000
DTEND;TZID=America/New_York:20210714T120000
DTSTAMP:20260423T092714
CREATED:20210223T163913Z
LAST-MODIFIED:20210223T163913Z
UID:10000122-1626253200-1626264000@www.cmsmusic.org
SUMMARY:Vivace Violin & Viola Camp
DESCRIPTION:
URL:https://www.cmsmusic.org/event/vivace-violin-viola-camp/2021-07-14/
LOCATION:Community Music School\, 775 West Main Street\, Trappe\, PA\, 19426\, United States
GEO:40.202853;-75.4832044
X-APPLE-STRUCTURED-LOCATION;VALUE=URI;X-ADDRESS=Community Music School 775 West Main Street Trappe PA 19426 United States;X-APPLE-RADIUS=500;X-TITLE=775 West Main Street:geo:-75.4832044,40.202853
END:VEVENT
BEGIN:VEVENT
DTSTART;TZID=America/New_York:20210715T090000
DTEND;TZID=America/New_York:20210715T120000
DTSTAMP:20260423T092714
CREATED:20210223T163913Z
LAST-MODIFIED:20210223T163913Z
UID:10000123-1626339600-1626350400@www.cmsmusic.org
SUMMARY:Vivace Violin & Viola Camp
DESCRIPTION:
URL:https://www.cmsmusic.org/event/vivace-violin-viola-camp/2021-07-15/
LOCATION:Community Music School\, 775 West Main Street\, Trappe\, PA\, 19426\, United States
GEO:40.202853;-75.4832044
X-APPLE-STRUCTURED-LOCATION;VALUE=URI;X-ADDRESS=Community Music School 775 West Main Street Trappe PA 19426 United States;X-APPLE-RADIUS=500;X-TITLE=775 West Main Street:geo:-75.4832044,40.202853
END:VEVENT
BEGIN:VEVENT
DTSTART;TZID=America/New_York:20210716T090000
DTEND;TZID=America/New_York:20210716T120000
DTSTAMP:20260423T092714
CREATED:20210223T163913Z
LAST-MODIFIED:20210223T163913Z
UID:10000124-1626426000-1626436800@www.cmsmusic.org
SUMMARY:Vivace Violin & Viola Camp
DESCRIPTION:
URL:https://www.cmsmusic.org/event/vivace-violin-viola-camp/2021-07-16/
LOCATION:Community Music School\, 775 West Main Street\, Trappe\, PA\, 19426\, United States
GEO:40.202853;-75.4832044
X-APPLE-STRUCTURED-LOCATION;VALUE=URI;X-ADDRESS=Community Music School 775 West Main Street Trappe PA 19426 United States;X-APPLE-RADIUS=500;X-TITLE=775 West Main Street:geo:-75.4832044,40.202853
END:VEVENT
BEGIN:VEVENT
DTSTART;TZID=America/New_York:20210719T090000
DTEND;TZID=America/New_York:20210719T120000
DTSTAMP:20260423T092714
CREATED:20210223T164030Z
LAST-MODIFIED:20210223T164030Z
UID:10000125-1626685200-1626696000@www.cmsmusic.org
SUMMARY:Progressions Jazz Camp
DESCRIPTION:
URL:https://www.cmsmusic.org/event/progressions-jazz-camp/2021-07-19/
LOCATION:Community Music School\, 775 West Main Street\, Trappe\, PA\, 19426\, United States
GEO:40.202853;-75.4832044
X-APPLE-STRUCTURED-LOCATION;VALUE=URI;X-ADDRESS=Community Music School 775 West Main Street Trappe PA 19426 United States;X-APPLE-RADIUS=500;X-TITLE=775 West Main Street:geo:-75.4832044,40.202853
END:VEVENT
BEGIN:VEVENT
DTSTART;TZID=America/New_York:20210720T090000
DTEND;TZID=America/New_York:20210720T120000
DTSTAMP:20260423T092714
CREATED:20210223T164030Z
LAST-MODIFIED:20210223T164030Z
UID:10000126-1626771600-1626782400@www.cmsmusic.org
SUMMARY:Progressions Jazz Camp
DESCRIPTION:
URL:https://www.cmsmusic.org/event/progressions-jazz-camp/2021-07-20/
LOCATION:Community Music School\, 775 West Main Street\, Trappe\, PA\, 19426\, United States
GEO:40.202853;-75.4832044
X-APPLE-STRUCTURED-LOCATION;VALUE=URI;X-ADDRESS=Community Music School 775 West Main Street Trappe PA 19426 United States;X-APPLE-RADIUS=500;X-TITLE=775 West Main Street:geo:-75.4832044,40.202853
END:VEVENT
BEGIN:VEVENT
DTSTART;TZID=America/New_York:20210721T090000
DTEND;TZID=America/New_York:20210721T120000
DTSTAMP:20260423T092714
CREATED:20210223T164030Z
LAST-MODIFIED:20210223T164030Z
UID:10000127-1626858000-1626868800@www.cmsmusic.org
SUMMARY:Progressions Jazz Camp
DESCRIPTION:
URL:https://www.cmsmusic.org/event/progressions-jazz-camp/2021-07-21/
LOCATION:Community Music School\, 775 West Main Street\, Trappe\, PA\, 19426\, United States
GEO:40.202853;-75.4832044
X-APPLE-STRUCTURED-LOCATION;VALUE=URI;X-ADDRESS=Community Music School 775 West Main Street Trappe PA 19426 United States;X-APPLE-RADIUS=500;X-TITLE=775 West Main Street:geo:-75.4832044,40.202853
END:VEVENT
BEGIN:VEVENT
DTSTART;TZID=America/New_York:20210722T090000
DTEND;TZID=America/New_York:20210722T120000
DTSTAMP:20260423T092714
CREATED:20210223T164030Z
LAST-MODIFIED:20210223T164030Z
UID:10000128-1626944400-1626955200@www.cmsmusic.org
SUMMARY:Progressions Jazz Camp
DESCRIPTION:
URL:https://www.cmsmusic.org/event/progressions-jazz-camp/2021-07-22/
LOCATION:Community Music School\, 775 West Main Street\, Trappe\, PA\, 19426\, United States
GEO:40.202853;-75.4832044
X-APPLE-STRUCTURED-LOCATION;VALUE=URI;X-ADDRESS=Community Music School 775 West Main Street Trappe PA 19426 United States;X-APPLE-RADIUS=500;X-TITLE=775 West Main Street:geo:-75.4832044,40.202853
END:VEVENT
BEGIN:VEVENT
DTSTART;TZID=America/New_York:20210723T090000
DTEND;TZID=America/New_York:20210723T120000
DTSTAMP:20260423T092714
CREATED:20210223T164030Z
LAST-MODIFIED:20210223T164030Z
UID:10000129-1627030800-1627041600@www.cmsmusic.org
SUMMARY:Progressions Jazz Camp
DESCRIPTION:
URL:https://www.cmsmusic.org/event/progressions-jazz-camp/2021-07-23/
LOCATION:Community Music School\, 775 West Main Street\, Trappe\, PA\, 19426\, United States
GEO:40.202853;-75.4832044
X-APPLE-STRUCTURED-LOCATION;VALUE=URI;X-ADDRESS=Community Music School 775 West Main Street Trappe PA 19426 United States;X-APPLE-RADIUS=500;X-TITLE=775 West Main Street:geo:-75.4832044,40.202853
END:VEVENT
END:VCALENDAR