BEGIN:VCALENDAR
VERSION:2.0
PRODID:-//Community Music School - ECPv6.15.20//NONSGML v1.0//EN
CALSCALE:GREGORIAN
METHOD:PUBLISH
X-WR-CALNAME:Community Music School
X-ORIGINAL-URL:https://www.cmsmusic.org
X-WR-CALDESC:Events for Community Music School
REFRESH-INTERVAL;VALUE=DURATION:PT1H
X-Robots-Tag:noindex
X-PUBLISHED-TTL:PT1H
BEGIN:VTIMEZONE
TZID:America/New_York
BEGIN:DAYLIGHT
TZOFFSETFROM:-0500
TZOFFSETTO:-0400
TZNAME:EDT
DTSTART:20200308T070000
END:DAYLIGHT
BEGIN:STANDARD
TZOFFSETFROM:-0400
TZOFFSETTO:-0500
TZNAME:EST
DTSTART:20201101T060000
END:STANDARD
BEGIN:DAYLIGHT
TZOFFSETFROM:-0500
TZOFFSETTO:-0400
TZNAME:EDT
DTSTART:20210314T070000
END:DAYLIGHT
BEGIN:STANDARD
TZOFFSETFROM:-0400
TZOFFSETTO:-0500
TZNAME:EST
DTSTART:20211107T060000
END:STANDARD
BEGIN:DAYLIGHT
TZOFFSETFROM:-0500
TZOFFSETTO:-0400
TZNAME:EDT
DTSTART:20220313T070000
END:DAYLIGHT
BEGIN:STANDARD
TZOFFSETFROM:-0400
TZOFFSETTO:-0500
TZNAME:EST
DTSTART:20221106T060000
END:STANDARD
BEGIN:DAYLIGHT
TZOFFSETFROM:-0500
TZOFFSETTO:-0400
TZNAME:EDT
DTSTART:20230312T070000
END:DAYLIGHT
BEGIN:STANDARD
TZOFFSETFROM:-0400
TZOFFSETTO:-0500
TZNAME:EST
DTSTART:20231105T060000
END:STANDARD
END:VTIMEZONE
BEGIN:VEVENT
DTSTART;TZID=America/New_York:20211214T180000
DTEND;TZID=America/New_York:20211214T184500
DTSTAMP:20260422T181114
CREATED:20210803T133750Z
LAST-MODIFIED:20210803T135648Z
UID:10000157-1639504800-1639507500@www.cmsmusic.org
SUMMARY:Suzuki Groups
DESCRIPTION:Suzuki Groups are held on Tuesdays and Thursdays 6:00-6:45pm. Students may come to one or both class each week.
URL:https://www.cmsmusic.org/event/suzuki-groups/2021-12-14/
LOCATION:Community Music School\, 775 West Main Street\, Trappe\, PA\, 19426\, United States
GEO:40.202853;-75.4832044
X-APPLE-STRUCTURED-LOCATION;VALUE=URI;X-ADDRESS=Community Music School 775 West Main Street Trappe PA 19426 United States;X-APPLE-RADIUS=500;X-TITLE=775 West Main Street:geo:-75.4832044,40.202853
END:VEVENT
BEGIN:VEVENT
DTSTART;TZID=America/New_York:20211214T190000
DTEND;TZID=America/New_York:20211214T210000
DTSTAMP:20260422T181114
CREATED:20210804T133102Z
LAST-MODIFIED:20210804T133102Z
UID:10000236-1639508400-1639515600@www.cmsmusic.org
SUMMARY:New Horizons Band
DESCRIPTION:New Horizons is a band program for adults (18+) who are new to music playing or who have previous instrumental experience and want to pick up where they left off!  All band instruments are welcome–flute\, oboe\, clarinet\, saxophone\, bassoon\, trumpet\, trombone\, French horn\, baritone\, tuba\, and percussion.
URL:https://www.cmsmusic.org/event/new-horizons-band-2/2021-12-14/
LOCATION:Community Music School\, 775 West Main Street\, Trappe\, PA\, 19426\, United States
GEO:40.202853;-75.4832044
X-APPLE-STRUCTURED-LOCATION;VALUE=URI;X-ADDRESS=Community Music School 775 West Main Street Trappe PA 19426 United States;X-APPLE-RADIUS=500;X-TITLE=775 West Main Street:geo:-75.4832044,40.202853
END:VEVENT
BEGIN:VEVENT
DTSTART;TZID=America/New_York:20211214T193000
DTEND;TZID=America/New_York:20211214T203000
DTSTAMP:20260422T181114
CREATED:20211130T194312Z
LAST-MODIFIED:20211130T194312Z
UID:10000367-1639510200-1639513800@www.cmsmusic.org
SUMMARY:New Horizons Band Holiday Concert
DESCRIPTION:Join us for our New Horizons Band’s Holiday Concert!  Free and open to the public. All are welcome to attend!
URL:https://www.cmsmusic.org/event/new-horizons-band-holiday-concert/
LOCATION:Community Music School\, 775 West Main Street\, Trappe\, PA\, 19426\, United States
GEO:40.202853;-75.4832044
X-APPLE-STRUCTURED-LOCATION;VALUE=URI;X-ADDRESS=Community Music School 775 West Main Street Trappe PA 19426 United States;X-APPLE-RADIUS=500;X-TITLE=775 West Main Street:geo:-75.4832044,40.202853
END:VEVENT
BEGIN:VEVENT
DTSTART;TZID=America/New_York:20211215T093000
DTEND;TZID=America/New_York:20211215T101500
DTSTAMP:20260422T181114
CREATED:20210903T151634Z
LAST-MODIFIED:20210903T151644Z
UID:10000275-1639560600-1639563300@www.cmsmusic.org
SUMMARY:Musikgarten Toddler Class
DESCRIPTION:Weekly Musikgarten classes are action-filled for toddlers (ages 15-months through 3 years of age) – full of energy\, often on the move\, always exploring and learning – and their parents. Together you’ll sing\, chant\, move\, dance\, listen\, and play simple instruments\, all activities that bridge the natural connection between music and movement through four wonder-filled semesters. Each lesson features movement activities for coordination\, body awareness and control\, exploration of space\, and instruments such as rhythm sticks\, jingles\, rattles\, drums\, and resonator bars.
URL:https://www.cmsmusic.org/event/musikgarten-toddler-class/2021-12-15/
END:VEVENT
BEGIN:VEVENT
DTSTART;TZID=America/New_York:20211215T103000
DTEND;TZID=America/New_York:20211215T111500
DTSTAMP:20260422T181114
CREATED:20210903T151921Z
LAST-MODIFIED:20210903T152045Z
UID:10000290-1639564200-1639566900@www.cmsmusic.org
SUMMARY:Musikgarten Preschool Class
DESCRIPTION:Celebrate your preschooler’s (ages 3-5 years) growing independence and love of the outdoors with activities involving the four seasons in The Cycle of Seasons. Developed to build attention and self-expression\, activities include singing\, chanting\, moving\, focused listening\, musical games\, exploring musical instruments\, creative movement and storytelling. The Cycle of Seasons nurtures your growing child’s ability to use language and participate in dramatic play within a musical context. Optional fun family home packets are available to increase family involvement in the learning process.
URL:https://www.cmsmusic.org/event/musikgarten-preschool-class/2021-12-15/
LOCATION:Community Music School\, 775 West Main Street\, Trappe\, PA\, 19426\, United States
GEO:40.202853;-75.4832044
X-APPLE-STRUCTURED-LOCATION;VALUE=URI;X-ADDRESS=Community Music School 775 West Main Street Trappe PA 19426 United States;X-APPLE-RADIUS=500;X-TITLE=775 West Main Street:geo:-75.4832044,40.202853
END:VEVENT
BEGIN:VEVENT
DTSTART;TZID=America/New_York:20211215T173000
DTEND;TZID=America/New_York:20211215T182000
DTSTAMP:20260422T181114
CREATED:20210903T152524Z
LAST-MODIFIED:20210903T152634Z
UID:10000305-1639589400-1639592400@www.cmsmusic.org
SUMMARY:Music Makers Class
DESCRIPTION:Musikgarten Music Makers: At Home in the World¸ your child will be engaged in activities that establish a solid music-making foundation. This year focuses on your child’s fascination with nature and develops a love of instruments. Your child will be introduced to the sounds of orchestral instruments individually\, and then in the context of an ensemble. Such a listening foundation will lead to long-term success with music reading in future classes.
URL:https://www.cmsmusic.org/event/music-makers-class/2021-12-15/
LOCATION:Community Music School\, 775 West Main Street\, Trappe\, PA\, 19426\, United States
GEO:40.202853;-75.4832044
X-APPLE-STRUCTURED-LOCATION;VALUE=URI;X-ADDRESS=Community Music School 775 West Main Street Trappe PA 19426 United States;X-APPLE-RADIUS=500;X-TITLE=775 West Main Street:geo:-75.4832044,40.202853
END:VEVENT
BEGIN:VEVENT
DTSTART;TZID=America/New_York:20211216T120000
DTEND;TZID=America/New_York:20211216T130000
DTSTAMP:20260422T181114
CREATED:20210910T143305Z
LAST-MODIFIED:20220616T141748Z
UID:10000309-1639656000-1639659600@www.cmsmusic.org
SUMMARY:Bach's Lunch Concert Series
DESCRIPTION:Bach’s Lunch – A Lunchtime Concert Series\n\nBring your box lunch & join us!\nCMS proudly presents a FREE lunchtime concert series called “Bach’s Lunch”.  Join us on the third Thursday of each month and enjoy a mini concert featuring a different CMS faculty artist each month. Pick up your box lunch at a local eatery or bring from home.  Concerts begin at 12:10pm and finish by 1:00pm.  The concert series is FREE.  ALL AGES WELCOME. \n2021-2022 Bach’s Lunch Schedule\n\nSeptember 16\, 2021 – Alan Dynin\, piano – Chick Corea Tribute\nOctober 21\, 2021 – Jocelyn Crosby\, flute\nNovember 18\, 2021 – Milena Urban\, piano\nDecember 16\, 2021 – Rob Diener Trio\nJanuary 20\, 2022 – Brad Rau\, classical guitar\nFebruary 17\, 2022 – Eric Coyne\, cello\nMarch 17\, 2022 – Melinda Rice\, violin\nApril 21\, 2022 – Sara Rabatin\, soprano\nMay 19\, 2022 – Chris Macy\, piano & vocals
URL:https://www.cmsmusic.org/event/bachs-lunch-concert-series/2021-12-16/
LOCATION:Community Music School\, 775 West Main Street\, Trappe\, PA\, 19426\, United States
GEO:40.202853;-75.4832044
X-APPLE-STRUCTURED-LOCATION;VALUE=URI;X-ADDRESS=Community Music School 775 West Main Street Trappe PA 19426 United States;X-APPLE-RADIUS=500;X-TITLE=775 West Main Street:geo:-75.4832044,40.202853
END:VEVENT
BEGIN:VEVENT
DTSTART;TZID=America/New_York:20211216T180000
DTEND;TZID=America/New_York:20211216T184500
DTSTAMP:20260422T181114
CREATED:20210803T134044Z
LAST-MODIFIED:20210803T135604Z
UID:10000194-1639677600-1639680300@www.cmsmusic.org
SUMMARY:Suzuki Groups
DESCRIPTION:Suzuki Groups are held on Tuesdays and Thursdays 6:00-6:45pm. Students may come to one or both class each week.
URL:https://www.cmsmusic.org/event/suzuki-groups-2/2021-12-16/
LOCATION:Community Music School\, 775 West Main Street\, Trappe\, PA\, 19426\, United States
GEO:40.202853;-75.4832044
X-APPLE-STRUCTURED-LOCATION;VALUE=URI;X-ADDRESS=Community Music School 775 West Main Street Trappe PA 19426 United States;X-APPLE-RADIUS=500;X-TITLE=775 West Main Street:geo:-75.4832044,40.202853
END:VEVENT
BEGIN:VEVENT
DTSTART;TZID=America/New_York:20211216T190000
DTEND;TZID=America/New_York:20211216T200000
DTSTAMP:20260422T181114
CREATED:20211102T161042Z
LAST-MODIFIED:20211201T154618Z
UID:10000362-1639681200-1639684800@www.cmsmusic.org
SUMMARY:Advanced Cello Ensemble
DESCRIPTION:The Advanced Cello Ensemble is for the advancing cello student at Suzuki Book Level 6+ or equivalent. Teacher recommendation required before enrolling.
URL:https://www.cmsmusic.org/event/advanced-cello-ensemble/2021-12-16/
LOCATION:Community Music School\, 775 West Main Street\, Trappe\, PA\, 19426\, United States
GEO:40.202853;-75.4832044
X-APPLE-STRUCTURED-LOCATION;VALUE=URI;X-ADDRESS=Community Music School 775 West Main Street Trappe PA 19426 United States;X-APPLE-RADIUS=500;X-TITLE=775 West Main Street:geo:-75.4832044,40.202853
END:VEVENT
BEGIN:VEVENT
DTSTART;VALUE=DATE:20211220
DTEND;VALUE=DATE:20211224
DTSTAMP:20260422T181114
CREATED:20210803T135441Z
LAST-MODIFIED:20210803T135441Z
UID:10000103-1639958400-1640303999@www.cmsmusic.org
SUMMARY:Make-Up Lessons
DESCRIPTION:December 20-23\, 2021 are make-up lessons days. Faculty will notify students about scheduled make-ups.
URL:https://www.cmsmusic.org/event/make-up-lessons/
LOCATION:Community Music School\, 775 West Main Street\, Trappe\, PA\, 19426\, United States
GEO:40.202853;-75.4832044
X-APPLE-STRUCTURED-LOCATION;VALUE=URI;X-ADDRESS=Community Music School 775 West Main Street Trappe PA 19426 United States;X-APPLE-RADIUS=500;X-TITLE=775 West Main Street:geo:-75.4832044,40.202853
END:VEVENT
BEGIN:VEVENT
DTSTART;TZID=America/New_York:20211220T171500
DTEND;TZID=America/New_York:20211220T180000
DTSTAMP:20260422T181114
CREATED:20211102T160428Z
LAST-MODIFIED:20211102T160428Z
UID:10000333-1640020500-1640023200@www.cmsmusic.org
SUMMARY:Musical Theatre Workshop
DESCRIPTION:Introduce your child to musical theater! Each week\, your child will get to take part in acting games that help develop their imagination\, creativity\, articulation\, and performance skills. \n\nMondays 5:15-6:00pm – September 20-December 20\, 2021\nTo enroll in this class\, please click here
URL:https://www.cmsmusic.org/event/musical-theatre-workshop/2021-12-20/
LOCATION:Community Music School\, 775 West Main Street\, Trappe\, PA\, 19426\, United States
GEO:40.202853;-75.4832044
X-APPLE-STRUCTURED-LOCATION;VALUE=URI;X-ADDRESS=Community Music School 775 West Main Street Trappe PA 19426 United States;X-APPLE-RADIUS=500;X-TITLE=775 West Main Street:geo:-75.4832044,40.202853
END:VEVENT
BEGIN:VEVENT
DTSTART;TZID=America/New_York:20211220T180000
DTEND;TZID=America/New_York:20211220T193000
DTSTAMP:20260422T181114
CREATED:20211102T160604Z
LAST-MODIFIED:20211102T160604Z
UID:10000346-1640023200-1640028600@www.cmsmusic.org
SUMMARY:Musical Theatre Performance - Grades 6 and up
DESCRIPTION:This exciting workshop is for the student who loves musical theatre! Each actor needs to make the commitment to work hard and learn everything there is to put on a performance. Our director and choreographer will provide training in acting\, singing and dancing through the rehearsal process of a Musical Revue. Every participant\, no matter what level\, will get lines\, solos and features in the show. The semester ends with a performance for family and friends! \n\nMondays 6:00-7:30pm – September 20-December 13\, 2021\nTo enroll in this class\, please click here
URL:https://www.cmsmusic.org/event/musical-theatre-performance-grades-6-and-up/2021-12-20/
LOCATION:Community Music School\, 775 West Main Street\, Trappe\, PA\, 19426\, United States
GEO:40.202853;-75.4832044
X-APPLE-STRUCTURED-LOCATION;VALUE=URI;X-ADDRESS=Community Music School 775 West Main Street Trappe PA 19426 United States;X-APPLE-RADIUS=500;X-TITLE=775 West Main Street:geo:-75.4832044,40.202853
END:VEVENT
BEGIN:VEVENT
DTSTART;TZID=America/New_York:20211220T190000
DTEND;TZID=America/New_York:20211220T200000
DTSTAMP:20260422T181114
CREATED:20211130T194933Z
LAST-MODIFIED:20211130T194933Z
UID:10000368-1640026800-1640030400@www.cmsmusic.org
SUMMARY:Musical Theatre Workshop Performance
DESCRIPTION:Join us for our Musical Theatre Workshop performance! Free and open to the public. All are welcome to attend!
URL:https://www.cmsmusic.org/event/musical-theatre-workshop-performance/
LOCATION:Community Music School\, 775 West Main Street\, Trappe\, PA\, 19426\, United States
GEO:40.202853;-75.4832044
X-APPLE-STRUCTURED-LOCATION;VALUE=URI;X-ADDRESS=Community Music School 775 West Main Street Trappe PA 19426 United States;X-APPLE-RADIUS=500;X-TITLE=775 West Main Street:geo:-75.4832044,40.202853
END:VEVENT
BEGIN:VEVENT
DTSTART;VALUE=DATE:20211224
DTEND;VALUE=DATE:20220103
DTSTAMP:20260422T181114
CREATED:20210803T135931Z
LAST-MODIFIED:20210803T135939Z
UID:10000104-1640304000-1641167999@www.cmsmusic.org
SUMMARY:CMS Closed
DESCRIPTION:CMS is closed December 24\, 2021-January 2\, 2022. Quarter 2 lessons and classes resume on January 3\, 2022
URL:https://www.cmsmusic.org/event/cms-closed-8/
LOCATION:Community Music School\, 775 West Main Street\, Trappe\, PA\, 19426\, United States
GEO:40.202853;-75.4832044
X-APPLE-STRUCTURED-LOCATION;VALUE=URI;X-ADDRESS=Community Music School 775 West Main Street Trappe PA 19426 United States;X-APPLE-RADIUS=500;X-TITLE=775 West Main Street:geo:-75.4832044,40.202853
END:VEVENT
BEGIN:VEVENT
DTSTART;TZID=America/New_York:20220104T180000
DTEND;TZID=America/New_York:20220104T184500
DTSTAMP:20260422T181114
CREATED:20210803T133750Z
LAST-MODIFIED:20210803T135648Z
UID:10000158-1641319200-1641321900@www.cmsmusic.org
SUMMARY:Suzuki Groups
DESCRIPTION:Suzuki Groups are held on Tuesdays and Thursdays 6:00-6:45pm. Students may come to one or both class each week.
URL:https://www.cmsmusic.org/event/suzuki-groups/2022-01-04/
LOCATION:Community Music School\, 775 West Main Street\, Trappe\, PA\, 19426\, United States
GEO:40.202853;-75.4832044
X-APPLE-STRUCTURED-LOCATION;VALUE=URI;X-ADDRESS=Community Music School 775 West Main Street Trappe PA 19426 United States;X-APPLE-RADIUS=500;X-TITLE=775 West Main Street:geo:-75.4832044,40.202853
END:VEVENT
BEGIN:VEVENT
DTSTART;TZID=America/New_York:20220106T180000
DTEND;TZID=America/New_York:20220106T184500
DTSTAMP:20260422T181114
CREATED:20210803T134044Z
LAST-MODIFIED:20210803T135604Z
UID:10000195-1641492000-1641494700@www.cmsmusic.org
SUMMARY:Suzuki Groups
DESCRIPTION:Suzuki Groups are held on Tuesdays and Thursdays 6:00-6:45pm. Students may come to one or both class each week.
URL:https://www.cmsmusic.org/event/suzuki-groups-2/2022-01-06/
LOCATION:Community Music School\, 775 West Main Street\, Trappe\, PA\, 19426\, United States
GEO:40.202853;-75.4832044
X-APPLE-STRUCTURED-LOCATION;VALUE=URI;X-ADDRESS=Community Music School 775 West Main Street Trappe PA 19426 United States;X-APPLE-RADIUS=500;X-TITLE=775 West Main Street:geo:-75.4832044,40.202853
END:VEVENT
BEGIN:VEVENT
DTSTART;TZID=America/New_York:20220106T190000
DTEND;TZID=America/New_York:20220106T200000
DTSTAMP:20260422T181114
CREATED:20211102T161042Z
LAST-MODIFIED:20211201T154618Z
UID:10000363-1641495600-1641499200@www.cmsmusic.org
SUMMARY:Advanced Cello Ensemble
DESCRIPTION:The Advanced Cello Ensemble is for the advancing cello student at Suzuki Book Level 6+ or equivalent. Teacher recommendation required before enrolling.
URL:https://www.cmsmusic.org/event/advanced-cello-ensemble/2022-01-06/
LOCATION:Community Music School\, 775 West Main Street\, Trappe\, PA\, 19426\, United States
GEO:40.202853;-75.4832044
X-APPLE-STRUCTURED-LOCATION;VALUE=URI;X-ADDRESS=Community Music School 775 West Main Street Trappe PA 19426 United States;X-APPLE-RADIUS=500;X-TITLE=775 West Main Street:geo:-75.4832044,40.202853
END:VEVENT
BEGIN:VEVENT
DTSTART;TZID=America/New_York:20220111T180000
DTEND;TZID=America/New_York:20220111T184500
DTSTAMP:20260422T181114
CREATED:20210803T133750Z
LAST-MODIFIED:20210803T135648Z
UID:10000159-1641924000-1641926700@www.cmsmusic.org
SUMMARY:Suzuki Groups
DESCRIPTION:Suzuki Groups are held on Tuesdays and Thursdays 6:00-6:45pm. Students may come to one or both class each week.
URL:https://www.cmsmusic.org/event/suzuki-groups/2022-01-11/
LOCATION:Community Music School\, 775 West Main Street\, Trappe\, PA\, 19426\, United States
GEO:40.202853;-75.4832044
X-APPLE-STRUCTURED-LOCATION;VALUE=URI;X-ADDRESS=Community Music School 775 West Main Street Trappe PA 19426 United States;X-APPLE-RADIUS=500;X-TITLE=775 West Main Street:geo:-75.4832044,40.202853
END:VEVENT
BEGIN:VEVENT
DTSTART;TZID=America/New_York:20220113T180000
DTEND;TZID=America/New_York:20220113T184500
DTSTAMP:20260422T181114
CREATED:20210803T134044Z
LAST-MODIFIED:20210803T135604Z
UID:10000196-1642096800-1642099500@www.cmsmusic.org
SUMMARY:Suzuki Groups
DESCRIPTION:Suzuki Groups are held on Tuesdays and Thursdays 6:00-6:45pm. Students may come to one or both class each week.
URL:https://www.cmsmusic.org/event/suzuki-groups-2/2022-01-13/
LOCATION:Community Music School\, 775 West Main Street\, Trappe\, PA\, 19426\, United States
GEO:40.202853;-75.4832044
X-APPLE-STRUCTURED-LOCATION;VALUE=URI;X-ADDRESS=Community Music School 775 West Main Street Trappe PA 19426 United States;X-APPLE-RADIUS=500;X-TITLE=775 West Main Street:geo:-75.4832044,40.202853
END:VEVENT
BEGIN:VEVENT
DTSTART;TZID=America/New_York:20220113T190000
DTEND;TZID=America/New_York:20220113T200000
DTSTAMP:20260422T181114
CREATED:20211102T161042Z
LAST-MODIFIED:20211201T154618Z
UID:10000364-1642100400-1642104000@www.cmsmusic.org
SUMMARY:Advanced Cello Ensemble
DESCRIPTION:The Advanced Cello Ensemble is for the advancing cello student at Suzuki Book Level 6+ or equivalent. Teacher recommendation required before enrolling.
URL:https://www.cmsmusic.org/event/advanced-cello-ensemble/2022-01-13/
LOCATION:Community Music School\, 775 West Main Street\, Trappe\, PA\, 19426\, United States
GEO:40.202853;-75.4832044
X-APPLE-STRUCTURED-LOCATION;VALUE=URI;X-ADDRESS=Community Music School 775 West Main Street Trappe PA 19426 United States;X-APPLE-RADIUS=500;X-TITLE=775 West Main Street:geo:-75.4832044,40.202853
END:VEVENT
BEGIN:VEVENT
DTSTART;TZID=America/New_York:20220118T180000
DTEND;TZID=America/New_York:20220118T184500
DTSTAMP:20260422T181114
CREATED:20210803T133750Z
LAST-MODIFIED:20210803T135648Z
UID:10000160-1642528800-1642531500@www.cmsmusic.org
SUMMARY:Suzuki Groups
DESCRIPTION:Suzuki Groups are held on Tuesdays and Thursdays 6:00-6:45pm. Students may come to one or both class each week.
URL:https://www.cmsmusic.org/event/suzuki-groups/2022-01-18/
LOCATION:Community Music School\, 775 West Main Street\, Trappe\, PA\, 19426\, United States
GEO:40.202853;-75.4832044
X-APPLE-STRUCTURED-LOCATION;VALUE=URI;X-ADDRESS=Community Music School 775 West Main Street Trappe PA 19426 United States;X-APPLE-RADIUS=500;X-TITLE=775 West Main Street:geo:-75.4832044,40.202853
END:VEVENT
BEGIN:VEVENT
DTSTART;TZID=America/New_York:20220120T180000
DTEND;TZID=America/New_York:20220120T184500
DTSTAMP:20260422T181114
CREATED:20210803T134044Z
LAST-MODIFIED:20210803T135604Z
UID:10000197-1642701600-1642704300@www.cmsmusic.org
SUMMARY:Suzuki Groups
DESCRIPTION:Suzuki Groups are held on Tuesdays and Thursdays 6:00-6:45pm. Students may come to one or both class each week.
URL:https://www.cmsmusic.org/event/suzuki-groups-2/2022-01-20/
LOCATION:Community Music School\, 775 West Main Street\, Trappe\, PA\, 19426\, United States
GEO:40.202853;-75.4832044
X-APPLE-STRUCTURED-LOCATION;VALUE=URI;X-ADDRESS=Community Music School 775 West Main Street Trappe PA 19426 United States;X-APPLE-RADIUS=500;X-TITLE=775 West Main Street:geo:-75.4832044,40.202853
END:VEVENT
BEGIN:VEVENT
DTSTART;TZID=America/New_York:20220120T190000
DTEND;TZID=America/New_York:20220120T200000
DTSTAMP:20260422T181114
CREATED:20211102T161042Z
LAST-MODIFIED:20211201T154618Z
UID:10000365-1642705200-1642708800@www.cmsmusic.org
SUMMARY:Advanced Cello Ensemble
DESCRIPTION:The Advanced Cello Ensemble is for the advancing cello student at Suzuki Book Level 6+ or equivalent. Teacher recommendation required before enrolling.
URL:https://www.cmsmusic.org/event/advanced-cello-ensemble/2022-01-20/
LOCATION:Community Music School\, 775 West Main Street\, Trappe\, PA\, 19426\, United States
GEO:40.202853;-75.4832044
X-APPLE-STRUCTURED-LOCATION;VALUE=URI;X-ADDRESS=Community Music School 775 West Main Street Trappe PA 19426 United States;X-APPLE-RADIUS=500;X-TITLE=775 West Main Street:geo:-75.4832044,40.202853
END:VEVENT
BEGIN:VEVENT
DTSTART;TZID=America/New_York:20220125T180000
DTEND;TZID=America/New_York:20220125T184500
DTSTAMP:20260422T181114
CREATED:20210803T133750Z
LAST-MODIFIED:20210803T135648Z
UID:10000161-1643133600-1643136300@www.cmsmusic.org
SUMMARY:Suzuki Groups
DESCRIPTION:Suzuki Groups are held on Tuesdays and Thursdays 6:00-6:45pm. Students may come to one or both class each week.
URL:https://www.cmsmusic.org/event/suzuki-groups/2022-01-25/
LOCATION:Community Music School\, 775 West Main Street\, Trappe\, PA\, 19426\, United States
GEO:40.202853;-75.4832044
X-APPLE-STRUCTURED-LOCATION;VALUE=URI;X-ADDRESS=Community Music School 775 West Main Street Trappe PA 19426 United States;X-APPLE-RADIUS=500;X-TITLE=775 West Main Street:geo:-75.4832044,40.202853
END:VEVENT
BEGIN:VEVENT
DTSTART;TZID=America/New_York:20220127T180000
DTEND;TZID=America/New_York:20220127T184500
DTSTAMP:20260422T181114
CREATED:20210803T134044Z
LAST-MODIFIED:20210803T135604Z
UID:10000198-1643306400-1643309100@www.cmsmusic.org
SUMMARY:Suzuki Groups
DESCRIPTION:Suzuki Groups are held on Tuesdays and Thursdays 6:00-6:45pm. Students may come to one or both class each week.
URL:https://www.cmsmusic.org/event/suzuki-groups-2/2022-01-27/
LOCATION:Community Music School\, 775 West Main Street\, Trappe\, PA\, 19426\, United States
GEO:40.202853;-75.4832044
X-APPLE-STRUCTURED-LOCATION;VALUE=URI;X-ADDRESS=Community Music School 775 West Main Street Trappe PA 19426 United States;X-APPLE-RADIUS=500;X-TITLE=775 West Main Street:geo:-75.4832044,40.202853
END:VEVENT
BEGIN:VEVENT
DTSTART;TZID=America/New_York:20220127T190000
DTEND;TZID=America/New_York:20220127T200000
DTSTAMP:20260422T181114
CREATED:20211102T161042Z
LAST-MODIFIED:20211201T154618Z
UID:10000366-1643310000-1643313600@www.cmsmusic.org
SUMMARY:Advanced Cello Ensemble
DESCRIPTION:The Advanced Cello Ensemble is for the advancing cello student at Suzuki Book Level 6+ or equivalent. Teacher recommendation required before enrolling.
URL:https://www.cmsmusic.org/event/advanced-cello-ensemble/2022-01-27/
LOCATION:Community Music School\, 775 West Main Street\, Trappe\, PA\, 19426\, United States
GEO:40.202853;-75.4832044
X-APPLE-STRUCTURED-LOCATION;VALUE=URI;X-ADDRESS=Community Music School 775 West Main Street Trappe PA 19426 United States;X-APPLE-RADIUS=500;X-TITLE=775 West Main Street:geo:-75.4832044,40.202853
END:VEVENT
BEGIN:VEVENT
DTSTART;TZID=America/New_York:20220128T190000
DTEND;TZID=America/New_York:20220128T200000
DTSTAMP:20260422T181114
CREATED:20211130T195026Z
LAST-MODIFIED:20211130T195026Z
UID:10000369-1643396400-1643400000@www.cmsmusic.org
SUMMARY:Student Recital
DESCRIPTION:
URL:https://www.cmsmusic.org/event/student-recital-10/
LOCATION:Community Music School\, 775 West Main Street\, Trappe\, PA\, 19426\, United States
GEO:40.202853;-75.4832044
X-APPLE-STRUCTURED-LOCATION;VALUE=URI;X-ADDRESS=Community Music School 775 West Main Street Trappe PA 19426 United States;X-APPLE-RADIUS=500;X-TITLE=775 West Main Street:geo:-75.4832044,40.202853
END:VEVENT
BEGIN:VEVENT
DTSTART;TZID=America/New_York:20220201T180000
DTEND;TZID=America/New_York:20220201T184500
DTSTAMP:20260422T181114
CREATED:20210803T133750Z
LAST-MODIFIED:20210803T135648Z
UID:10000162-1643738400-1643741100@www.cmsmusic.org
SUMMARY:Suzuki Groups
DESCRIPTION:Suzuki Groups are held on Tuesdays and Thursdays 6:00-6:45pm. Students may come to one or both class each week.
URL:https://www.cmsmusic.org/event/suzuki-groups/2022-02-01/
LOCATION:Community Music School\, 775 West Main Street\, Trappe\, PA\, 19426\, United States
GEO:40.202853;-75.4832044
X-APPLE-STRUCTURED-LOCATION;VALUE=URI;X-ADDRESS=Community Music School 775 West Main Street Trappe PA 19426 United States;X-APPLE-RADIUS=500;X-TITLE=775 West Main Street:geo:-75.4832044,40.202853
END:VEVENT
BEGIN:VEVENT
DTSTART;TZID=America/New_York:20220201T190000
DTEND;TZID=America/New_York:20220201T210000
DTSTAMP:20260422T181114
CREATED:20210804T133102Z
LAST-MODIFIED:20210804T133102Z
UID:10000237-1643742000-1643749200@www.cmsmusic.org
SUMMARY:New Horizons Band
DESCRIPTION:New Horizons is a band program for adults (18+) who are new to music playing or who have previous instrumental experience and want to pick up where they left off!  All band instruments are welcome–flute\, oboe\, clarinet\, saxophone\, bassoon\, trumpet\, trombone\, French horn\, baritone\, tuba\, and percussion.
URL:https://www.cmsmusic.org/event/new-horizons-band-2/2022-02-01/
LOCATION:Community Music School\, 775 West Main Street\, Trappe\, PA\, 19426\, United States
GEO:40.202853;-75.4832044
X-APPLE-STRUCTURED-LOCATION;VALUE=URI;X-ADDRESS=Community Music School 775 West Main Street Trappe PA 19426 United States;X-APPLE-RADIUS=500;X-TITLE=775 West Main Street:geo:-75.4832044,40.202853
END:VEVENT
BEGIN:VEVENT
DTSTART;TZID=America/New_York:20220203T180000
DTEND;TZID=America/New_York:20220203T184500
DTSTAMP:20260422T181114
CREATED:20210803T134044Z
LAST-MODIFIED:20210803T135604Z
UID:10000199-1643911200-1643913900@www.cmsmusic.org
SUMMARY:Suzuki Groups
DESCRIPTION:Suzuki Groups are held on Tuesdays and Thursdays 6:00-6:45pm. Students may come to one or both class each week.
URL:https://www.cmsmusic.org/event/suzuki-groups-2/2022-02-03/
LOCATION:Community Music School\, 775 West Main Street\, Trappe\, PA\, 19426\, United States
GEO:40.202853;-75.4832044
X-APPLE-STRUCTURED-LOCATION;VALUE=URI;X-ADDRESS=Community Music School 775 West Main Street Trappe PA 19426 United States;X-APPLE-RADIUS=500;X-TITLE=775 West Main Street:geo:-75.4832044,40.202853
END:VEVENT
END:VCALENDAR