BEGIN:VCALENDAR
VERSION:2.0
PRODID:-//Community Music School - ECPv6.15.20//NONSGML v1.0//EN
CALSCALE:GREGORIAN
METHOD:PUBLISH
X-WR-CALNAME:Community Music School
X-ORIGINAL-URL:https://www.cmsmusic.org
X-WR-CALDESC:Events for Community Music School
REFRESH-INTERVAL;VALUE=DURATION:PT1H
X-Robots-Tag:noindex
X-PUBLISHED-TTL:PT1H
BEGIN:VTIMEZONE
TZID:America/New_York
BEGIN:DAYLIGHT
TZOFFSETFROM:-0500
TZOFFSETTO:-0400
TZNAME:EDT
DTSTART:20170312T070000
END:DAYLIGHT
BEGIN:STANDARD
TZOFFSETFROM:-0400
TZOFFSETTO:-0500
TZNAME:EST
DTSTART:20171105T060000
END:STANDARD
BEGIN:DAYLIGHT
TZOFFSETFROM:-0500
TZOFFSETTO:-0400
TZNAME:EDT
DTSTART:20180311T070000
END:DAYLIGHT
BEGIN:STANDARD
TZOFFSETFROM:-0400
TZOFFSETTO:-0500
TZNAME:EST
DTSTART:20181104T060000
END:STANDARD
BEGIN:DAYLIGHT
TZOFFSETFROM:-0500
TZOFFSETTO:-0400
TZNAME:EDT
DTSTART:20190310T070000
END:DAYLIGHT
BEGIN:STANDARD
TZOFFSETFROM:-0400
TZOFFSETTO:-0500
TZNAME:EST
DTSTART:20191103T060000
END:STANDARD
END:VTIMEZONE
BEGIN:VEVENT
DTSTART;TZID=America/New_York:20180518T150000
DTEND;TZID=America/New_York:20180518T170000
DTSTAMP:20260425T143458
CREATED:20180111T191446Z
LAST-MODIFIED:20180111T191446Z
UID:10000009-1526655600-1526662800@www.cmsmusic.org
SUMMARY:Open Mic Night
DESCRIPTION:
URL:https://www.cmsmusic.org/event/open-mic-night/
LOCATION:PA
CATEGORIES:Special Events
END:VEVENT
BEGIN:VEVENT
DTSTART;TZID=America/New_York:20180520T110000
DTEND;TZID=America/New_York:20180520T130000
DTSTAMP:20260425T143458
CREATED:20180111T191944Z
LAST-MODIFIED:20180111T191951Z
UID:10000008-1526814000-1526821200@www.cmsmusic.org
SUMMARY:CMS Student Showcase Concert
DESCRIPTION:
URL:https://www.cmsmusic.org/event/cms-student-showcase-concert/
LOCATION:PA
CATEGORIES:Special Events,Student Recitals
END:VEVENT
BEGIN:VEVENT
DTSTART;TZID=America/New_York:20180520T110000
DTEND;TZID=America/New_York:20180520T130000
DTSTAMP:20260425T143458
CREATED:20180110T222415Z
LAST-MODIFIED:20180117T030008Z
UID:10000016-1526814000-1526821200@www.cmsmusic.org
SUMMARY:CMS Student Showcase
DESCRIPTION:An annual Student Showcase Concert is held at the end of each school year to recognize the outstanding accomplishments of our students over the course of the year. Students are selected by audition for this special program and perform a variety of instrumental and vocal repertoire.
URL:https://www.cmsmusic.org/event/cms-student-showcase/
LOCATION:Community Music School\, 775 West Main Street\, Trappe\, PA\, 19426\, United States
GEO:40.202853;-75.4832044
X-APPLE-STRUCTURED-LOCATION;VALUE=URI;X-ADDRESS=Community Music School 775 West Main Street Trappe PA 19426 United States;X-APPLE-RADIUS=500;X-TITLE=775 West Main Street:geo:-75.4832044,40.202853
END:VEVENT
BEGIN:VEVENT
DTSTART;VALUE=DATE:20180520
DTEND;VALUE=DATE:20180522
DTSTAMP:20260425T143458
CREATED:20180111T192737Z
LAST-MODIFIED:20180111T192737Z
UID:10000007-1526846400-1526932799@www.cmsmusic.org
SUMMARY:Summer & Fall Registration Opens for Current Students
DESCRIPTION:
URL:https://www.cmsmusic.org/event/summer-fall-registration-opens-for-current-students/
LOCATION:Community Music School\, 775 West Main Street\, Trappe\, PA\, 19426\, United States
GEO:40.202853;-75.4832044
X-APPLE-STRUCTURED-LOCATION;VALUE=URI;X-ADDRESS=Community Music School 775 West Main Street Trappe PA 19426 United States;X-APPLE-RADIUS=500;X-TITLE=775 West Main Street:geo:-75.4832044,40.202853
END:VEVENT
END:VCALENDAR