BEGIN:VCALENDAR
VERSION:2.0
PRODID:-//Community Music School - ECPv6.15.20//NONSGML v1.0//EN
CALSCALE:GREGORIAN
METHOD:PUBLISH
X-WR-CALNAME:Community Music School
X-ORIGINAL-URL:https://www.cmsmusic.org
X-WR-CALDESC:Events for Community Music School
REFRESH-INTERVAL;VALUE=DURATION:PT1H
X-Robots-Tag:noindex
X-PUBLISHED-TTL:PT1H
BEGIN:VTIMEZONE
TZID:America/New_York
BEGIN:DAYLIGHT
TZOFFSETFROM:-0500
TZOFFSETTO:-0400
TZNAME:EDT
DTSTART:20170312T070000
END:DAYLIGHT
BEGIN:STANDARD
TZOFFSETFROM:-0400
TZOFFSETTO:-0500
TZNAME:EST
DTSTART:20171105T060000
END:STANDARD
BEGIN:DAYLIGHT
TZOFFSETFROM:-0500
TZOFFSETTO:-0400
TZNAME:EDT
DTSTART:20180311T070000
END:DAYLIGHT
BEGIN:STANDARD
TZOFFSETFROM:-0400
TZOFFSETTO:-0500
TZNAME:EST
DTSTART:20181104T060000
END:STANDARD
BEGIN:DAYLIGHT
TZOFFSETFROM:-0500
TZOFFSETTO:-0400
TZNAME:EDT
DTSTART:20190310T070000
END:DAYLIGHT
BEGIN:STANDARD
TZOFFSETFROM:-0400
TZOFFSETTO:-0500
TZNAME:EST
DTSTART:20191103T060000
END:STANDARD
END:VTIMEZONE
BEGIN:VEVENT
DTSTART;TZID=America/New_York:20180419T081000
DTEND;TZID=America/New_York:20180419T085000
DTSTAMP:20260425T120846
CREATED:20180110T223008Z
LAST-MODIFIED:20180110T223008Z
UID:10000019-1524125400-1524127800@www.cmsmusic.org
SUMMARY:Bach's Lunch - Lorenzo Raval\, violin & viola
DESCRIPTION:Bring your box lunch and join us for a FREE lunchtime concert on the third Thursday of the month! These informal concerts typically feature CMS faculty members. Programs begin at 12:10 and end by 12:50pm. All ages welcome!
URL:https://www.cmsmusic.org/event/bachs-lunch-lorenzo-raval-violin-viola/
LOCATION:Community Music School\, 775 West Main Street\, Trappe\, PA\, 19426\, United States
CATEGORIES:Bach's Lunch
GEO:40.202853;-75.4832044
X-APPLE-STRUCTURED-LOCATION;VALUE=URI;X-ADDRESS=Community Music School 775 West Main Street Trappe PA 19426 United States;X-APPLE-RADIUS=500;X-TITLE=775 West Main Street:geo:-75.4832044,40.202853
END:VEVENT
BEGIN:VEVENT
DTSTART;TZID=America/New_York:20180420T150000
DTEND;TZID=America/New_York:20180420T160000
DTSTAMP:20260425T120846
CREATED:20180111T184029Z
LAST-MODIFIED:20180111T184029Z
UID:10000011-1524236400-1524240000@www.cmsmusic.org
SUMMARY:Adult Student Recital
DESCRIPTION:
URL:https://www.cmsmusic.org/event/adult-student-recital/
LOCATION:Community Music School\, 775 West Main Street\, Trappe\, PA\, 19426\, United States
CATEGORIES:Student Recitals
GEO:40.202853;-75.4832044
X-APPLE-STRUCTURED-LOCATION;VALUE=URI;X-ADDRESS=Community Music School 775 West Main Street Trappe PA 19426 United States;X-APPLE-RADIUS=500;X-TITLE=775 West Main Street:geo:-75.4832044,40.202853
END:VEVENT
BEGIN:VEVENT
DTSTART;VALUE=DATE:20180422
DTEND;VALUE=DATE:20180424
DTSTAMP:20260425T120846
CREATED:20180111T184157Z
LAST-MODIFIED:20180111T184157Z
UID:10000078-1524427200-1524513599@www.cmsmusic.org
SUMMARY:Quarter 4 Begins
DESCRIPTION:
URL:https://www.cmsmusic.org/event/quarter-4-begins/
LOCATION:Community Music School\, 775 West Main Street\, Trappe\, PA\, 19426\, United States
CATEGORIES:Quarter
GEO:40.202853;-75.4832044
X-APPLE-STRUCTURED-LOCATION;VALUE=URI;X-ADDRESS=Community Music School 775 West Main Street Trappe PA 19426 United States;X-APPLE-RADIUS=500;X-TITLE=775 West Main Street:geo:-75.4832044,40.202853
END:VEVENT
BEGIN:VEVENT
DTSTART;TZID=America/New_York:20180429T090000
DTEND;TZID=America/New_York:20180429T130000
DTSTAMP:20260425T120846
CREATED:20180111T184249Z
LAST-MODIFIED:20180111T184249Z
UID:10000077-1524992400-1525006800@www.cmsmusic.org
SUMMARY:Student Showcase Auditions
DESCRIPTION:
URL:https://www.cmsmusic.org/event/student-showcase-auditions/
LOCATION:Community Music School\, 775 West Main Street\, Trappe\, PA\, 19426\, United States
CATEGORIES:Special Events
GEO:40.202853;-75.4832044
X-APPLE-STRUCTURED-LOCATION;VALUE=URI;X-ADDRESS=Community Music School 775 West Main Street Trappe PA 19426 United States;X-APPLE-RADIUS=500;X-TITLE=775 West Main Street:geo:-75.4832044,40.202853
END:VEVENT
BEGIN:VEVENT
DTSTART;TZID=America/New_York:20180505T040000
DTEND;TZID=America/New_York:20180505T130000
DTSTAMP:20260425T120846
CREATED:20180111T190527Z
LAST-MODIFIED:20180111T190527Z
UID:10000010-1525492800-1525525200@www.cmsmusic.org
SUMMARY:26th Annual Performathon
DESCRIPTION:
URL:https://www.cmsmusic.org/event/26th-annual-performathon/
LOCATION:PA
CATEGORIES:Special Events
END:VEVENT
BEGIN:VEVENT
DTSTART;TZID=America/New_York:20180517T081000
DTEND;TZID=America/New_York:20180517T085000
DTSTAMP:20260425T120846
CREATED:20180110T223105Z
LAST-MODIFIED:20180110T223105Z
UID:10000020-1526544600-1526547000@www.cmsmusic.org
SUMMARY:Bach's Lunch - Special Guests: The Grateful Alive Ensemble
DESCRIPTION:Bring your box lunch and join us for a FREE lunchtime concert on the third Thursday of the month! These informal concerts typically feature CMS faculty members. Programs begin at 12:10 and end by 12:50pm. All ages welcome!
URL:https://www.cmsmusic.org/event/bachs-lunch-special-guests-the-grateful-alive-ensemble/
LOCATION:Community Music School\, 775 West Main Street\, Trappe\, PA\, 19426\, United States
CATEGORIES:Bach's Lunch
GEO:40.202853;-75.4832044
X-APPLE-STRUCTURED-LOCATION;VALUE=URI;X-ADDRESS=Community Music School 775 West Main Street Trappe PA 19426 United States;X-APPLE-RADIUS=500;X-TITLE=775 West Main Street:geo:-75.4832044,40.202853
END:VEVENT
BEGIN:VEVENT
DTSTART;TZID=America/New_York:20180518T150000
DTEND;TZID=America/New_York:20180518T170000
DTSTAMP:20260425T120846
CREATED:20180111T191446Z
LAST-MODIFIED:20180111T191446Z
UID:10000009-1526655600-1526662800@www.cmsmusic.org
SUMMARY:Open Mic Night
DESCRIPTION:
URL:https://www.cmsmusic.org/event/open-mic-night/
LOCATION:PA
CATEGORIES:Special Events
END:VEVENT
END:VCALENDAR