BEGIN:VCALENDAR
VERSION:2.0
PRODID:-//Community Music School - ECPv6.15.20//NONSGML v1.0//EN
CALSCALE:GREGORIAN
METHOD:PUBLISH
X-WR-CALNAME:Community Music School
X-ORIGINAL-URL:https://www.cmsmusic.org
X-WR-CALDESC:Events for Community Music School
REFRESH-INTERVAL;VALUE=DURATION:PT1H
X-Robots-Tag:noindex
X-PUBLISHED-TTL:PT1H
BEGIN:VTIMEZONE
TZID:America/New_York
BEGIN:DAYLIGHT
TZOFFSETFROM:-0500
TZOFFSETTO:-0400
TZNAME:EDT
DTSTART:20170312T070000
END:DAYLIGHT
BEGIN:STANDARD
TZOFFSETFROM:-0400
TZOFFSETTO:-0500
TZNAME:EST
DTSTART:20171105T060000
END:STANDARD
BEGIN:DAYLIGHT
TZOFFSETFROM:-0500
TZOFFSETTO:-0400
TZNAME:EDT
DTSTART:20180311T070000
END:DAYLIGHT
BEGIN:STANDARD
TZOFFSETFROM:-0400
TZOFFSETTO:-0500
TZNAME:EST
DTSTART:20181104T060000
END:STANDARD
BEGIN:DAYLIGHT
TZOFFSETFROM:-0500
TZOFFSETTO:-0400
TZNAME:EDT
DTSTART:20190310T070000
END:DAYLIGHT
BEGIN:STANDARD
TZOFFSETFROM:-0400
TZOFFSETTO:-0500
TZNAME:EST
DTSTART:20191103T060000
END:STANDARD
END:VTIMEZONE
BEGIN:VEVENT
DTSTART;TZID=America/New_York:20181108T133000
DTEND;TZID=America/New_York:20181108T160000
DTSTAMP:20260425T080850
CREATED:20181001T232653Z
LAST-MODIFIED:20181001T232653Z
UID:10000045-1541683800-1541692800@www.cmsmusic.org
SUMMARY:PMEA District Audition workshop
DESCRIPTION:PMEA DISTRICT BAND & ORCHESTRA AUDITION\nWe invite students to Community Music School for Thursday\, November 8 • 6:30-9:00pm\nan evening of highly focused\, faculty-led audition preparation for PMEA District 10\, 11 & 12 Auditions. The evening will include group rehearsal and\nmasterclasses of repertoire\, scales\, sight-reading along with mock auditions. \nCost: $15 / non-refundable\n(Free for students currently enrolled in lessons or ensembles at CMS)\nPlease RSVP by Saturday\, November 3rd \nPlease complete the registration information that you may download below\, and return with your payment to CMS by November 3\, 2018.\nPlease check that you have filled out each required field. \nDownload registration HERE \n \n  \n 
URL:https://www.cmsmusic.org/event/pmea-district-audition-workshop/
CATEGORIES:Special Events
ATTACH;FMTTYPE=image/jpeg:https://www.cmsmusic.org/wp-content/uploads/PMEA-District-Audition-workshop.jpg
END:VEVENT
END:VCALENDAR